BEGIN:VCALENDAR
VERSION:2.0
PRODID:-//Braathe Kursadmin
CALSCALE:GREGORIAN
METHOD:PUBLISH
BEGIN:VEVENT
SUMMARY:Sorggruppe
CLASS:PUBLIC
DTSTAMP:20260421T173306
DTSTART;TZID=Europe/Oslo:20221102T140000
DTEND;TZID=Europe/Oslo:20221214T153000
LOCATION:SiO Helse, Blindern - Kristian Ottosens Hus - Problemveien 9, 0313
DESCRIPTION:
ORGANIZER:SiO Helse & Rådgivning
UID:82291
URL:https://siohelse.kursadmin.itum.com/Course/82291
END:VEVENT
END:VCALENDAR
