BEGIN:VCALENDAR
VERSION:2.0
PRODID:-//Braathe Kursadmin
CALSCALE:GREGORIAN
METHOD:PUBLISH
BEGIN:VEVENT
SUMMARY:kursdag 1
CLASS:PUBLIC
DTSTAMP:20260425T214729
DTSTART;TZID=Europe/Oslo:20240919T183000
DTEND;TZID=Europe/Oslo:20240919T200000
LOCATION:UIO
DESCRIPTION:
ORGANIZER:SiO Helse & Rådgivning
UID:88250-2104
URL:https://siohelse.kursadmin.itum.com/Course/88250
END:VEVENT
BEGIN:VEVENT
SUMMARY:kursdag 2
CLASS:PUBLIC
DTSTAMP:20260425T214729
DTSTART;TZID=Europe/Oslo:20240926T183000
DTEND;TZID=Europe/Oslo:20240926T200000
LOCATION:UIO
DESCRIPTION:
ORGANIZER:SiO Helse & Rådgivning
UID:88250-2105
URL:https://siohelse.kursadmin.itum.com/Course/88250
END:VEVENT
BEGIN:VEVENT
SUMMARY:Kursdag 3
CLASS:PUBLIC
DTSTAMP:20260425T214729
DTSTART;TZID=Europe/Oslo:20241010T183000
DTEND;TZID=Europe/Oslo:20241010T200000
LOCATION:UIO
DESCRIPTION:
ORGANIZER:SiO Helse & Rådgivning
UID:88250-2106
URL:https://siohelse.kursadmin.itum.com/Course/88250
END:VEVENT
BEGIN:VEVENT
SUMMARY:kursdag 4
CLASS:PUBLIC
DTSTAMP:20260425T214729
DTSTART;TZID=Europe/Oslo:20241017T183000
DTEND;TZID=Europe/Oslo:20241017T200000
LOCATION:UIO
DESCRIPTION:
ORGANIZER:SiO Helse & Rådgivning
UID:88250-2107
URL:https://siohelse.kursadmin.itum.com/Course/88250
END:VEVENT
BEGIN:VEVENT
SUMMARY:kursdag 5
CLASS:PUBLIC
DTSTAMP:20260425T214729
DTSTART;TZID=Europe/Oslo:20241024T183000
DTEND;TZID=Europe/Oslo:20241024T200000
LOCATION:UIO
DESCRIPTION:
ORGANIZER:SiO Helse & Rådgivning
UID:88250-2108
URL:https://siohelse.kursadmin.itum.com/Course/88250
END:VEVENT
END:VCALENDAR
